BEGIN:VCALENDAR
VERSION:2.0
PRODID:-//FTAG Esslingen - ECPv6.15.20//NONSGML v1.0//EN
CALSCALE:GREGORIAN
METHOD:PUBLISH
X-WR-CALNAME:FTAG Esslingen
X-ORIGINAL-URL:https://ftag-esslingen.de
X-WR-CALDESC:Veranstaltungen für FTAG Esslingen
REFRESH-INTERVAL;VALUE=DURATION:PT1H
X-Robots-Tag:noindex
X-PUBLISHED-TTL:PT1H
BEGIN:VTIMEZONE
TZID:Europe/Berlin
BEGIN:DAYLIGHT
TZOFFSETFROM:+0100
TZOFFSETTO:+0200
TZNAME:CEST
DTSTART:20250330T010000
END:DAYLIGHT
BEGIN:STANDARD
TZOFFSETFROM:+0200
TZOFFSETTO:+0100
TZNAME:CET
DTSTART:20251026T010000
END:STANDARD
BEGIN:DAYLIGHT
TZOFFSETFROM:+0100
TZOFFSETTO:+0200
TZNAME:CEST
DTSTART:20260329T010000
END:DAYLIGHT
BEGIN:STANDARD
TZOFFSETFROM:+0200
TZOFFSETTO:+0100
TZNAME:CET
DTSTART:20261025T010000
END:STANDARD
BEGIN:DAYLIGHT
TZOFFSETFROM:+0100
TZOFFSETTO:+0200
TZNAME:CEST
DTSTART:20270328T010000
END:DAYLIGHT
BEGIN:STANDARD
TZOFFSETFROM:+0200
TZOFFSETTO:+0100
TZNAME:CET
DTSTART:20271031T010000
END:STANDARD
END:VTIMEZONE
BEGIN:VEVENT
DTSTART;TZID=Europe/Berlin:20260605T180000
DTEND;TZID=Europe/Berlin:20260605T200000
DTSTAMP:20260424T130948
CREATED:20260409T083000Z
LAST-MODIFIED:20260409T085345Z
UID:5950-1780682400-1780689600@ftag-esslingen.de
SUMMARY:Studentenflugtag 2026
DESCRIPTION:🚀 Werde Teil unseres Teams – Erlebe das Segelfliegen für nur 10€!\nDu wolltest schon immer wissen\, wie es sich anfühlt\, lautlos durch die Lüfte zu gleiten? Dann ist das deine Chance! Wir von der FTAG suchen neue Mitglieder – und was gibt es Besseres\, als das Segelfliegen direkt auszuprobieren? \nFür nur 10€ kannst du einen Schnupperflug in einem unserer Segelflugzeuge erleben! Dabei bekommst du einen ersten Eindruck davon\, wie spannend unser Verein und wie cool unser Team ist und ob das Fliegen vielleicht DEIN neues Hobby werden könnte. Bei uns kannst du neben dem Studium günstig deinen Pilotenschein machen – perfekt\, wenn du das Fliegen nicht nur ausprobieren\, sondern richtig durchstarten willst! \nSo bist du dabei:\n✈️ Schnupperflugtag: Samstag\, 06.06.2026 (Bei schlechtem Wetter behalten wir uns vor den Termin zu verschieben)📍 Pflicht-Briefing: Freitag\, 05.06.2026 um 18 Uhr in unserer Werkstatt💡 Warum? Hier gibt’s das Sicherheitsbriefing & die heiß begehrten Flugslots! \nNeugierig geworden? Falls du mehr über eine Mitgliedschaft wissen willst\, findest du alle Infos weiteren Infos und FAQ hier. :) Wir freuen uns über jeden\, der Lust hat\, bei uns einzusteigen! \n👉 Melde dich jetzt an und finde heraus\, ob das dein Ding ist! \nZUR ANMELDUNG HIER KLICKEN \nUnsere Werkstatt:📍 Campus Stadtmitte\, Keller am Ende von Gebäude 9.Den Lageplan findest du [hier]. \nWir freuen uns auf dich! ✈️✨
URL:https://ftag-esslingen.de/event/studentenflugtag/
LOCATION:FTAG Werkstatt\, Kanalstraße 33\, Esslingen am Neckar\, 73728\, Deutschland
END:VEVENT
END:VCALENDAR